BEGIN:VCALENDAR
VERSION:2.0
PRODID:-//wp-events-plugin.com//7.2.3.1//EN
BEGIN:VEVENT
UID:265@timesquarewarrington.co.uk
DTSTART:20260208T110000Z
DTEND:20260208T160000Z
DTSTAMP:20260119T163043Z
URL:https://timesquarewarrington.co.uk/events/warrington-record-fair-7/
SUMMARY:Warrington Record Fair
DESCRIPTION:Warrington Record Fair returns to Warrington Market on Sunday\,
  January 8th.\n\nFound on the Mezzanine (first floor) at Warrington Market
 \, the free event has thousands of records for sale and you can even bring
  your collection for free valuations.\n\nFor more information\, click here
 .
ATTACH;FMTTYPE=image/jpeg:https://timesquarewarrington.co.uk/wp-content/up
 loads/2025/01/Warrington-Record-Fair-9th-February-e1754045164311.jpg
CATEGORIES:Time Square Events,Warrington Market Events
END:VEVENT
END:VCALENDAR