BEGIN:VCALENDAR
VERSION:2.0
PRODID:-//wp-events-plugin.com//7.2.3.1//EN
BEGIN:VEVENT
UID:172@timesquarewarrington.co.uk
DTSTART;VALUE=DATE:20250621
DTEND;VALUE=DATE:20250622
DTSTAMP:20250606T153400Z
URL:https://timesquarewarrington.co.uk/events/university-of-chester-underg
 raduate-open-day/
SUMMARY:University of Chester Undergraduate Open Day
DESCRIPTION:At the University Centre Warrington at 2pm on Saturday 21st Jun
 e\, prospective students are invited to visit the campus as part of a Univ
 ersity of Chester undergraduate open day.\n\nOpen days are a great opportu
 nity to visit before applying to get a real feel for the courses on offer 
 at University of Chester.\n\nYou will be able to attend information sessio
 ns and talks for your preferred subject areas. Find out more about facilit
 ies and life on campus.\n\nYou can speak to academic staff\, current stude
 nts\, and the student support teams. Also get information on student finan
 ce and funding\, UCAS applications and accommodation options.\n\nTo book y
 our place visit here.\n\nImage (University of Chester)
ATTACH;FMTTYPE=image/jpeg:https://timesquarewarrington.co.uk/wp-content/up
 loads/2025/06/undergraduate-open-days-2-e1749224011563.jpg
END:VEVENT
END:VCALENDAR