BEGIN:VCALENDAR
VERSION:2.0
PRODID:-//wp-events-plugin.com//7.2.3.1//EN
BEGIN:VEVENT
UID:196@timesquarewarrington.co.uk
DTSTART;VALUE=DATE:20250807
DTEND;VALUE=DATE:20250808
DTSTAMP:20250729T142002Z
URL:https://timesquarewarrington.co.uk/events/traditional-rides-day/
SUMMARY:Traditional Rides Day
DESCRIPTION:Summer in Time Square is bringing fun\, entertainment and a mix
  of activities to Time Square every Thursday between 11am and 4pm for the 
 month of August. These family-friendly activities offer something for ever
 yone\, making it the perfect summer outing for the whole family.\n\nOn Thu
 rsday\, August 7th\, to kick off Summer in Time Square\, there will be a r
 ange of traditional rides for children to enjoy\, as well as face painting
  and interactive walkabouts.\n\nWhile attending this event\, check out all
  of our businesses in the square and their summer offerings.
ATTACH;FMTTYPE=image/jpeg:https://timesquarewarrington.co.uk/wp-content/up
 loads/2025/07/Chairs-e1753277388576.jpg
END:VEVENT
END:VCALENDAR