BEGIN:VCALENDAR
VERSION:2.0
PRODID:-//wp-events-plugin.com//7.2.3.1//EN
BEGIN:VEVENT
UID:271@timesquarewarrington.co.uk
DTSTART:20260314T200000Z
DTEND:20260314T200000Z
DTSTAMP:20260126T134337Z
URL:https://timesquarewarrington.co.uk/events/st-patricks-weekender/
SUMMARY:St Patrick's Weekender
DESCRIPTION:Celebrate Saint Patrick's Day with Warrington Market on Saturda
 y\, March 14th.\n\nThere will be a four-piece live band playing traditiona
 l and contemporary Irish music from 8pm.\n\nIt will be free entry and ther
 e will be plenty of Guinness\, cocktails and lots of fun to keep you enter
 tained all night long.\n\nFor more information please visit here.\n\nImage
  (Warrington Market)
ATTACH;FMTTYPE=image/jpeg:https://timesquarewarrington.co.uk/wp-content/up
 loads/2026/01/St-Patricks-Day.jpg
CATEGORIES:Time Square Events,Warrington Market Events
END:VEVENT
END:VCALENDAR