BEGIN:VCALENDAR
VERSION:2.0
PRODID:-//wp-events-plugin.com//7.2.3.1//EN
BEGIN:VEVENT
UID:270@timesquarewarrington.co.uk
DTSTART:20260306T190000Z
DTEND:20260306T190000Z
DTSTAMP:20260126T150849Z
URL:https://timesquarewarrington.co.uk/events/paint-away-frida-kahlo-sip-p
 aint/
SUMMARY:Paint Away: Frida Kahlo Sip & Paint
DESCRIPTION:On Friday\, March 6th at 7pm\, Warrington Market are providing 
 an opportunity to paint the iconic Frida Kahlo in a choice of four designs
 .\n\nThis will be a chance to learn how to paint the artist that so many a
 re inspired by and bring her essence to life.\n\nIf booking in a group mak
 e sure to book under one booking or the same surname when checking out.\n\
 nAll equipment will be provided and arriving 10 minutes early is essential
  to keep the class running smoothly and have everyone seated and ready to 
 paint on time.\n\nTicket price = £34.99\n\nFor more information and to bo
 ok tickets please visit here.\n\nImage (Warrington Market)
ATTACH;FMTTYPE=image/jpeg:https://timesquarewarrington.co.uk/wp-content/up
 loads/2026/01/Fridah-kahlo-paint-sip.jpg
CATEGORIES:Time Square Events,Warrington Market Events
END:VEVENT
END:VCALENDAR