BEGIN:VCALENDAR
VERSION:2.0
PRODID:-//wp-events-plugin.com//7.2.3.1//EN
BEGIN:VEVENT
UID:20@timesquarewarrington.co.uk
DTSTART:20241231T183000Z
DTEND:20241231T183000Z
DTSTAMP:20240918T090114Z
URL:https://timesquarewarrington.co.uk/events/new-years-eve-with-midnight-
 soul-sisters/
SUMMARY:New Years Eve with Midnight Soul Sisters
DESCRIPTION:New Year's Eve Party at Warrington Market: A Night with Midnigh
 t Soul Sisters\n\nCelebrate the arrival of the New Year in style at Warrin
 gton Market's sensational New Year's Eve party\, featuring the fabulous Mi
 dnight Soul Sisters. This dynamic Soul and Motown tribute act promises an 
 unforgettable night of music\, dancing\, and festive cheer.\n\nEvent Highl
 ights:\n\nMidnight Soul Sisters Performance:\n\n- Soulful Tunes: Enjoy a m
 esmerizing performance by the Midnight Soul Sisters\, who will bring to li
 fe the timeless classics of the Soul and Motown eras. Their powerful vocal
 s and charismatic stage presence will transport you back to the golden age
  of music\, with hits from legends like Aretha Franklin\, Diana Ross\, and
  The Supremes.\n\n- Energetic Atmosphere: The Midnight Soul Sisters are re
 nowned for their high-energy shows that get everyone up on their feet. Exp
 ect a night filled with electrifying performances\, soulful ballads\, and 
 irresistible dance numbers.\n\n-Delicious Delights: Savor a variety of cul
 inary delights from the market’s diverse food stalls. From gourmet snack
 s to world delicacies\, there’s something to satisfy every palate.\n\nSh
 are the joy of New Year's Eve with the Warrington community. The festive s
 pirit and camaraderie will make this a night to remember.\n\nJoin us at Wa
 rrington Market for an evening of spectacular entertainment\, delicious fo
 od\, and joyous celebration with the incredible Midnight Soul Sisters. Let
 ’s welcome the New Year together with soul\, style\, and a whole lot of 
 fun!\n\nDoors: 6:30pm\n\nPrice: £25 (early bird) - Click here to book
ATTACH;FMTTYPE=image/jpeg:https://timesquarewarrington.co.uk/wp-content/up
 loads/2024/09/NYE-Midnight-Soul-Sisters.jpeg
END:VEVENT
END:VCALENDAR