BEGIN:VCALENDAR
VERSION:2.0
PRODID:-//wp-events-plugin.com//7.2.3.1//EN
BEGIN:VEVENT
UID:68@timesquarewarrington.co.uk
DTSTART:20241220T103000Z
DTEND:20241220T160000Z
DTSTAMP:20241212T145737Z
URL:https://timesquarewarrington.co.uk/events/living-well-bus-in-time-squa
 re-2/
SUMMARY:Living Well Bus in Time Square
DESCRIPTION:The Living Well bus\, delivered by Cheshire and Wirral Partner
 ship NHS Foundation Trust\, travels to different locations across the regi
 on\, ensuring it reaches as many areas as possible\, to support people to 
 improve their health and wellbeing.\nA range of services are available\, i
 ncluding all UK immunisations\, physical health checks\, referrals and sig
 nposting to mental health services\, and other appropriate services and or
 ganisations.\nHealth checks available include:\n\n\n 	Blood pressure and p
 ulse check\n 	Cholesterol check\n 	Blood glucose check\n 	BMI check\n
ATTACH;FMTTYPE=image/jpeg:https://timesquarewarrington.co.uk/wp-content/up
 loads/2024/10/460961914_956788426480443_2232122716403125847_n.jpg
END:VEVENT
END:VCALENDAR