BEGIN:VCALENDAR
VERSION:2.0
PRODID:-//wp-events-plugin.com//7.2.3.1//EN
BEGIN:VEVENT
UID:80@timesquarewarrington.co.uk
DTSTART:20250315T180000Z
DTEND:20250329T230000Z
DTSTAMP:20250311T170408Z
URL:https://timesquarewarrington.co.uk/events/live-music-returns-to-costel
 los-bar/
SUMMARY:Live Music Line Up at Costello’s Bar
DESCRIPTION:Costello’s Bar is back with a bang as its live music nights t
 his month.\n\n 	Saturday\, 15th March – Jen at 8.45pm\n 	Saturday\, 22nd
  March – White Hairs at 8.45pm\n 	Friday\, 28th March – Northern Soul 
 DJ at 6.30pm\n 	Saturday\, 29th March – Starbelly at 8.45pm\n\nFor more 
 information\, click here. 
ATTACH;FMTTYPE=image/jpeg:https://timesquarewarrington.co.uk/wp-content/up
 loads/2025/01/Screenshot-2025-03-11-170340.png
END:VEVENT
END:VCALENDAR