BEGIN:VCALENDAR
VERSION:2.0
PRODID:-//wp-events-plugin.com//7.2.3.1//EN
BEGIN:VEVENT
UID:77@timesquarewarrington.co.uk
DTSTART;VALUE=DATE:20250401
DTEND;VALUE=DATE:20250501
DTSTAMP:20250407T143219Z
URL:https://timesquarewarrington.co.uk/events/hoppy-mondays-at-costellos-b
 ar/
SUMMARY:Hoppy Mondays at Costello's Bar
DESCRIPTION:Start off your week right with Hoppy Mondays at Costello’s Ba
 r. Every Monday\, they’re taking 30p off all Ale and Lager pints\, all d
 ay long.\n\nIt’s a great way to relax after work or hang out with friend
 s\, all while enjoying a pint at a better price. It’s a nice little trea
 t to make Mondays a bit brighter.
ATTACH;FMTTYPE=image/jpeg:https://timesquarewarrington.co.uk/wp-content/up
 loads/2025/01/Costellos-Hoppy-Mondays.jpg
END:VEVENT
END:VCALENDAR