BEGIN:VCALENDAR
VERSION:2.0
PRODID:-//wp-events-plugin.com//7.2.3.1//EN
BEGIN:VEVENT
UID:255@timesquarewarrington.co.uk
DTSTART:20260217T100000Z
DTEND:20260217T150000Z
DTSTAMP:20260115T145704Z
URL:https://timesquarewarrington.co.uk/events/go-wild-holiday-camp/
SUMMARY:GO WILD Holiday Camp
DESCRIPTION:Returning to Warrington Market on Tuesday\, February 17th\, GO 
 WILD will be bringing a day full of spooky animal magic.\n\nHave you ever 
 wondered why snakes slither? Why snails are slimy? Why cockroaches hiss? W
 hy geckos climb?\n\n\nHead to the Mezzanine (first floor) at Warrington Ma
 rket between 10am and 3pm to meet the crew from Animal Teach Team.\n\nTher
 e is no need to book but spaces are limited for each workshop.\n\nFor more
  information please visit here.\n\nImage (Warrington Market)\n\n
ATTACH;FMTTYPE=image/jpeg:https://timesquarewarrington.co.uk/wp-content/up
 loads/2026/01/GO-WILD-February.jpg
CATEGORIES:Time Square Events,Warrington Market Events
END:VEVENT
END:VCALENDAR