BEGIN:VCALENDAR
VERSION:2.0
PRODID:-//wp-events-plugin.com//7.2.3.1//EN
BEGIN:VEVENT
UID:117@timesquarewarrington.co.uk
DTSTART:20250531T203000Z
DTEND:20250531T203000Z
DTSTAMP:20250410T125142Z
URL:https://timesquarewarrington.co.uk/events/cookhouse-live-presents-dizz
 y-brasscals/
SUMMARY:COOKHOUSE LIVE presents: Dizzy Brasscals
DESCRIPTION:On 31st May at 8:30pm\, Warrington Market\, The Cookhouse will 
 host an exciting performance by Dizzy Brasscals\, a high-energy brass band
  known for their mix of funk\, pop\, and party tunes. The band\, made up o
 f world-class musicians who’ve toured with artists like Craig David\, Li
 ly Allen\, and Paloma Faith\, will bring bold horns and groovy rhythms to 
 create an atmosphere that’s sure to get everyone dancing.\nWhether atten
 dees are enjoying dinner\, drinks\, or just passing through\, Dizzy Brassc
 als will be roaming the market\, bringing the party to them.\nWith free en
 try\, it’s the perfect way to enjoy the evening. Guests are encouraged t
 o arrive early\, grab a drink\, enjoy their meal\, and get ready for an un
 forgettable night of music.\nFor more details\, click here.\nThis event is
  part of Warrington Music Month\, a month-long celebration that will fill 
 Warrington town centre with incredible live music throughout May.\n\nLed b
 y Warrington BID and supported by venues across the town\, this exciting e
 vent showcases the best of Warrington’s music scene across the town’s 
 stages\, squares\, and open spaces.\n\nClick here to explore what's happen
 ing in Time Square.
ATTACH;FMTTYPE=image/jpeg:https://timesquarewarrington.co.uk/wp-content/up
 loads/2025/03/Screenshot-2025-03-12-100307.png
END:VEVENT
END:VCALENDAR